BEGIN:VCALENDAR
VERSION:2.0
PRODID:-//southkcalliance.org - ECPv6.15.20//NONSGML v1.0//EN
CALSCALE:GREGORIAN
METHOD:PUBLISH
X-WR-CALNAME:southkcalliance.org
X-ORIGINAL-URL:https://southkcalliance.org
X-WR-CALDESC:Events for southkcalliance.org
REFRESH-INTERVAL;VALUE=DURATION:PT1H
X-Robots-Tag:noindex
X-PUBLISHED-TTL:PT1H
BEGIN:VTIMEZONE
TZID:America/Chicago
BEGIN:DAYLIGHT
TZOFFSETFROM:-0600
TZOFFSETTO:-0500
TZNAME:CDT
DTSTART:20240310T080000
END:DAYLIGHT
BEGIN:STANDARD
TZOFFSETFROM:-0500
TZOFFSETTO:-0600
TZNAME:CST
DTSTART:20241103T070000
END:STANDARD
BEGIN:DAYLIGHT
TZOFFSETFROM:-0600
TZOFFSETTO:-0500
TZNAME:CDT
DTSTART:20250309T080000
END:DAYLIGHT
BEGIN:STANDARD
TZOFFSETFROM:-0500
TZOFFSETTO:-0600
TZNAME:CST
DTSTART:20251102T070000
END:STANDARD
BEGIN:DAYLIGHT
TZOFFSETFROM:-0600
TZOFFSETTO:-0500
TZNAME:CDT
DTSTART:20260308T080000
END:DAYLIGHT
BEGIN:STANDARD
TZOFFSETFROM:-0500
TZOFFSETTO:-0600
TZNAME:CST
DTSTART:20261101T070000
END:STANDARD
END:VTIMEZONE
BEGIN:VEVENT
DTSTART;TZID=America/Chicago:20251108T150000
DTEND;TZID=America/Chicago:20251108T170000
DTSTAMP:20260423T183624
CREATED:20251105T221834Z
LAST-MODIFIED:20251105T221834Z
UID:6175-1762614000-1762621200@southkcalliance.org
SUMMARY:Veteran's Day Salute
DESCRIPTION:
URL:https://southkcalliance.org/event/veterans-day-salute/
LOCATION:Bruce R Watkins Cultural Hetritage Center and Museum\, 3700 Dr. Martin Luther King Jr. Blvd\, Kansas City\, 64130
CATEGORIES:Community Events
ATTACH;FMTTYPE=image/jpeg:https://southkcalliance.org/wp-content/uploads/2025/11/20251103_161633-scaled.jpg
END:VEVENT
BEGIN:VEVENT
DTSTART;VALUE=DATE:20251120
DTEND;VALUE=DATE:20251123
DTSTAMP:20260423T183624
CREATED:20251105T222035Z
LAST-MODIFIED:20251105T222035Z
UID:6178-1763596800-1763855999@southkcalliance.org
SUMMARY:Thanksgiving Dinner Giveaway - Apply by November 7th
DESCRIPTION:
URL:https://southkcalliance.org/event/thanksgiving-dinner-giveaway-apply-by-november-7th/
CATEGORIES:Community Events
ATTACH;FMTTYPE=image/png:https://southkcalliance.org/wp-content/uploads/2025/11/CAC-Thanksgiving-Giveaway-2025-4.png
END:VEVENT
END:VCALENDAR