BEGIN:VCALENDAR
VERSION:2.0
PRODID:-//southkcalliance.org - ECPv6.15.20//NONSGML v1.0//EN
CALSCALE:GREGORIAN
METHOD:PUBLISH
X-WR-CALNAME:southkcalliance.org
X-ORIGINAL-URL:https://southkcalliance.org
X-WR-CALDESC:Events for southkcalliance.org
REFRESH-INTERVAL;VALUE=DURATION:PT1H
X-Robots-Tag:noindex
X-PUBLISHED-TTL:PT1H
BEGIN:VTIMEZONE
TZID:America/Chicago
BEGIN:DAYLIGHT
TZOFFSETFROM:-0600
TZOFFSETTO:-0500
TZNAME:CDT
DTSTART:20240310T080000
END:DAYLIGHT
BEGIN:STANDARD
TZOFFSETFROM:-0500
TZOFFSETTO:-0600
TZNAME:CST
DTSTART:20241103T070000
END:STANDARD
BEGIN:DAYLIGHT
TZOFFSETFROM:-0600
TZOFFSETTO:-0500
TZNAME:CDT
DTSTART:20250309T080000
END:DAYLIGHT
BEGIN:STANDARD
TZOFFSETFROM:-0500
TZOFFSETTO:-0600
TZNAME:CST
DTSTART:20251102T070000
END:STANDARD
BEGIN:DAYLIGHT
TZOFFSETFROM:-0600
TZOFFSETTO:-0500
TZNAME:CDT
DTSTART:20260308T080000
END:DAYLIGHT
BEGIN:STANDARD
TZOFFSETFROM:-0500
TZOFFSETTO:-0600
TZNAME:CST
DTSTART:20261101T070000
END:STANDARD
END:VTIMEZONE
BEGIN:VEVENT
DTSTART;TZID=America/Chicago:20251110T180000
DTEND;TZID=America/Chicago:20251110T200000
DTSTAMP:20260423T183623
CREATED:20251105T221616Z
LAST-MODIFIED:20251105T221616Z
UID:6171-1762797600-1762804800@southkcalliance.org
SUMMARY:SKCA November 2025 Meeting
DESCRIPTION:  \n  \n  \n  \n  \n  \n  \n  \n  \n  \n  \n  \n  \n  \nPlease join us to hear directly from KCMO Mayor Quinton Lucas who is speaking about his newest initiatives to stimulate economic growth\, improve public safety and strengthen our neighborhoods and how these initiatives will benefit south Kansas City at our South Kansas City Alliance public meeting at 6 p.m. Monday\, November 10\, in the front building of the South Patrol Police Campus\, 9701 Marion Park Dr. \nMayor Lucas will respond to questions and comments from the audience and will welcome suggestions on how city services can continue to be improved citywide and in our area. \nJackson County Legislature Vice Chair Donna Peyton will speak about the immediate steps Jackson County is taking to transition from an appointed to an elected county assessor to be in charge of the reassessments of county residents’ homes and businesses which have a direct impact on property taxes following the overwhelming voter approval November 4 of an amendment to the county charter to make the county assessor an elected position directly accountable to the voters following a lengthy controversy over steeply rising reassessments of many homes and small businesses. \n  \n  \n  \n  \n  \n  \n  \n  \nVoting members of the SKCA will vote on reelecting volunteer members of the SKCA Board whose two-year terms are expiring. The slate of Board members whose terms are expiring and who were nominated for reelection by the Nominating Committee chaired by SKCA Vice President Sherwood Smith and recommended for retention by the Board are: John Carmichael\, Stacy Carrow\, Kesi Milligan\, Reginald Silvers\, Bruce Wieseler\, Johnnie Wilson and K.B. Winterowd. \nNominations of current SKCA members for Board positions also will be considered at the meeting.  There is currently one vacant position on the Board that is authorized to have up to 15 members by the bylaws.
URL:https://southkcalliance.org/event/skca-november-2025-meeting/
LOCATION:Kansas City Police South Patrol Division\, 9701 Marion Park Dr\, Kansas City\, MO\, 64137
CATEGORIES:SKCA Events
END:VEVENT
END:VCALENDAR