BEGIN:VCALENDAR
VERSION:2.0
PRODID:-//southkcalliance.org - ECPv6.15.20//NONSGML v1.0//EN
CALSCALE:GREGORIAN
METHOD:PUBLISH
X-WR-CALNAME:southkcalliance.org
X-ORIGINAL-URL:https://southkcalliance.org
X-WR-CALDESC:Events for southkcalliance.org
REFRESH-INTERVAL;VALUE=DURATION:PT1H
X-Robots-Tag:noindex
X-PUBLISHED-TTL:PT1H
BEGIN:VTIMEZONE
TZID:America/Chicago
BEGIN:DAYLIGHT
TZOFFSETFROM:-0600
TZOFFSETTO:-0500
TZNAME:CDT
DTSTART:20240310T080000
END:DAYLIGHT
BEGIN:STANDARD
TZOFFSETFROM:-0500
TZOFFSETTO:-0600
TZNAME:CST
DTSTART:20241103T070000
END:STANDARD
BEGIN:DAYLIGHT
TZOFFSETFROM:-0600
TZOFFSETTO:-0500
TZNAME:CDT
DTSTART:20250309T080000
END:DAYLIGHT
BEGIN:STANDARD
TZOFFSETFROM:-0500
TZOFFSETTO:-0600
TZNAME:CST
DTSTART:20251102T070000
END:STANDARD
BEGIN:DAYLIGHT
TZOFFSETFROM:-0600
TZOFFSETTO:-0500
TZNAME:CDT
DTSTART:20260308T080000
END:DAYLIGHT
BEGIN:STANDARD
TZOFFSETFROM:-0500
TZOFFSETTO:-0600
TZNAME:CST
DTSTART:20261101T070000
END:STANDARD
END:VTIMEZONE
BEGIN:VEVENT
DTSTART;TZID=America/Chicago:20251208T180000
DTEND;TZID=America/Chicago:20251208T200000
DTSTAMP:20260423T171038
CREATED:20251202T234331Z
LAST-MODIFIED:20251202T234331Z
UID:6190-1765216800-1765224000@southkcalliance.org
SUMMARY:SKCA December 2025 Meeting
DESCRIPTION:
URL:https://southkcalliance.org/event/skca-december-2025-meeting/
LOCATION:Kansas City Police South Patrol Division\, 9701 Marion Park Dr\, Kansas City\, MO\, 64137
CATEGORIES:Community Events,SKCA Events
END:VEVENT
END:VCALENDAR