BEGIN:VCALENDAR
VERSION:2.0
PRODID:-//southkcalliance.org - ECPv6.15.20//NONSGML v1.0//EN
CALSCALE:GREGORIAN
METHOD:PUBLISH
X-ORIGINAL-URL:https://southkcalliance.org
X-WR-CALDESC:Events for southkcalliance.org
REFRESH-INTERVAL;VALUE=DURATION:PT1H
X-Robots-Tag:noindex
X-PUBLISHED-TTL:PT1H
BEGIN:VTIMEZONE
TZID:America/Chicago
BEGIN:DAYLIGHT
TZOFFSETFROM:-0600
TZOFFSETTO:-0500
TZNAME:CDT
DTSTART:20250309T080000
END:DAYLIGHT
BEGIN:STANDARD
TZOFFSETFROM:-0500
TZOFFSETTO:-0600
TZNAME:CST
DTSTART:20251102T070000
END:STANDARD
BEGIN:DAYLIGHT
TZOFFSETFROM:-0600
TZOFFSETTO:-0500
TZNAME:CDT
DTSTART:20260308T080000
END:DAYLIGHT
BEGIN:STANDARD
TZOFFSETFROM:-0500
TZOFFSETTO:-0600
TZNAME:CST
DTSTART:20261101T070000
END:STANDARD
BEGIN:DAYLIGHT
TZOFFSETFROM:-0600
TZOFFSETTO:-0500
TZNAME:CDT
DTSTART:20270314T080000
END:DAYLIGHT
BEGIN:STANDARD
TZOFFSETFROM:-0500
TZOFFSETTO:-0600
TZNAME:CST
DTSTART:20271107T070000
END:STANDARD
END:VTIMEZONE
BEGIN:VEVENT
DTSTART;TZID=America/Chicago:20260209T180000
DTEND;TZID=America/Chicago:20260209T200000
DTSTAMP:20260423T171631
CREATED:20260204T024547Z
LAST-MODIFIED:20260204T024547Z
UID:6216-1770660000-1770667200@southkcalliance.org
SUMMARY:February 2026 SKCA Meeting
DESCRIPTION:  \nTop Jackson County elected officials will highlight the program at February’s public meeting of the South Kansas City Alliance at 6 p.m. Monday\, February 9\, in the community room in the front building of the South Patrol Police Campus\, 9701 Marion Park Dr. \nNew Jackson County Executive Phil LeVota and new Chairman of the Jackson County Legislature Manny Abarca will both speak at the meeting about important county issues and respond to audience questions. \n \n  \n  \n  \n  \n  \n  \n  \n  \n  \nLeVota’s term as the county’s chief executive officer will run through 2026\, and he is expected to discuss improvements in the county’s property tax assessment and reassessment procedures\, construction of the new county jail\, county funding for high priority street and bridge improvements and county park facilities and ongoing efforts to keep the Kansas City Royals playing in Jackson County as well as other important county issues. \n \n  \n  \n  \n  \n  \n  \n  \n  \n  \nAbarca who was recently selected to replace DaRon McGee as Chairman of the County Legislature will also comment on these issues and discuss the county’s program to provide significant funding to local nonprofit organizations that serve county residents which recently provided funding to the Grandview Education Foundation for its Cover to Cover reading program that purchases books for students in the Grandview School District. \nAlso speaking at the public meeting will be Triveece Penelton\, community engagement leader\, and Selina Zapata Bur\, KCMO project manager\, for Reconnecting the East Side\, an organization seeking to address any negative impacts caused by the construction of U.S. 71 Highway dividing KCMO neighborhoods on its east from those on its west. \n \n \n  \n  \n  \n  \n  \n  \nGoals include listening carefully to area residents and developing a comprehensive land use plan that meets their needs and desires which will encourage economic development and job creation\, adequate green space\, quality housing and traffic safety and beginning to implement such improvements in the near future. \nOther area elected officials regularly attend SKCA public meetings to let those attending know about upcoming issues and events\, and area nonprofit organizations are always welcome to announce their upcoming events. \n 
URL:https://southkcalliance.org/event/february-2026-skca-meeting/
LOCATION:Kansas City Police South Patrol Division\, 9701 Marion Park Dr\, Kansas City\, MO\, 64137
CATEGORIES:SKCA Events
END:VEVENT
END:VCALENDAR