BEGIN:VCALENDAR
VERSION:2.0
PRODID:-//southkcalliance.org - ECPv6.15.20//NONSGML v1.0//EN
CALSCALE:GREGORIAN
METHOD:PUBLISH
X-ORIGINAL-URL:https://southkcalliance.org
X-WR-CALDESC:Events for southkcalliance.org
REFRESH-INTERVAL;VALUE=DURATION:PT1H
X-Robots-Tag:noindex
X-PUBLISHED-TTL:PT1H
BEGIN:VTIMEZONE
TZID:America/Chicago
BEGIN:DAYLIGHT
TZOFFSETFROM:-0600
TZOFFSETTO:-0500
TZNAME:CDT
DTSTART:20250309T080000
END:DAYLIGHT
BEGIN:STANDARD
TZOFFSETFROM:-0500
TZOFFSETTO:-0600
TZNAME:CST
DTSTART:20251102T070000
END:STANDARD
BEGIN:DAYLIGHT
TZOFFSETFROM:-0600
TZOFFSETTO:-0500
TZNAME:CDT
DTSTART:20260308T080000
END:DAYLIGHT
BEGIN:STANDARD
TZOFFSETFROM:-0500
TZOFFSETTO:-0600
TZNAME:CST
DTSTART:20261101T070000
END:STANDARD
BEGIN:DAYLIGHT
TZOFFSETFROM:-0600
TZOFFSETTO:-0500
TZNAME:CDT
DTSTART:20270314T080000
END:DAYLIGHT
BEGIN:STANDARD
TZOFFSETFROM:-0500
TZOFFSETTO:-0600
TZNAME:CST
DTSTART:20271107T070000
END:STANDARD
END:VTIMEZONE
BEGIN:VEVENT
DTSTART;TZID=America/Chicago:20260413T180000
DTEND;TZID=America/Chicago:20260413T200000
DTSTAMP:20260423T123701
CREATED:20260409T165817Z
LAST-MODIFIED:20260409T165817Z
UID:6250-1776103200-1776110400@southkcalliance.org
SUMMARY:SKCA April 2026 Meeting
DESCRIPTION:Please join us at our monthly South Kansas City Alliance public meeting at 6 p.m. Monday\, April 13\, in the front building of the South Patrol Police Campus\, 9701 Marion Park Dr.\, to hear very important news from all four KCMO City Council members who represent the south Kansas City area. \n \n  \n  \n  \n  \n  \n  \n  \n  \n  \n  \n  \n  \n  \n  \n  \n  \n  \nOur confirmed speakers are 5th District council members Mayor Pro Tem Ryana Parks-Shaw & Darrell Curls and 6th District council members Andrea Bough & Johnathan Duncan who will explain the most important parts of the recently adopted city budget for fiscal year 2026-27\, their top priorities for the coming year and city services that directly impact south Kansas City. \nThey all have committed to respond to audience comments and questions. \nAlso hear a brief report from SKCA Codes Advocate Davida Byrd about her efforts to get prompt compliance from south Kansas City property owners and renters to correct property maintenance violations such as high grass & weeds\, dead trees\, trash & litter\, vehicles parked in front yards\, peeling paint and out buildings open to entry. \nShe will also explain how persons can report such violations during both normal business hours and after hours.  Such complaints can always remain anonymous on request.
URL:https://southkcalliance.org/event/skca-april-2026-meeting/
LOCATION:Kansas City Police South Patrol Division\, 9701 Marion Park Dr\, Kansas City\, MO\, 64137
CATEGORIES:SKCA Events
END:VEVENT
END:VCALENDAR